BEGIN:VCALENDAR
VERSION:2.0
PRODID:-//Kentucky Horticulture Council - ECPv6.15.20//NONSGML v1.0//EN
CALSCALE:GREGORIAN
METHOD:PUBLISH
X-ORIGINAL-URL:https://kyhortcouncil.org
X-WR-CALDESC:Events for Kentucky Horticulture Council
REFRESH-INTERVAL;VALUE=DURATION:PT1H
X-Robots-Tag:noindex
X-PUBLISHED-TTL:PT1H
BEGIN:VTIMEZONE
TZID:UTC
BEGIN:STANDARD
TZOFFSETFROM:+0000
TZOFFSETTO:+0000
TZNAME:UTC
DTSTART:20200101T000000
END:STANDARD
END:VTIMEZONE
BEGIN:VTIMEZONE
TZID:America/New_York
BEGIN:DAYLIGHT
TZOFFSETFROM:-0500
TZOFFSETTO:-0400
TZNAME:EDT
DTSTART:20210314T070000
END:DAYLIGHT
BEGIN:STANDARD
TZOFFSETFROM:-0400
TZOFFSETTO:-0500
TZNAME:EST
DTSTART:20211107T060000
END:STANDARD
BEGIN:DAYLIGHT
TZOFFSETFROM:-0500
TZOFFSETTO:-0400
TZNAME:EDT
DTSTART:20220313T070000
END:DAYLIGHT
BEGIN:STANDARD
TZOFFSETFROM:-0400
TZOFFSETTO:-0500
TZNAME:EST
DTSTART:20221106T060000
END:STANDARD
BEGIN:DAYLIGHT
TZOFFSETFROM:-0500
TZOFFSETTO:-0400
TZNAME:EDT
DTSTART:20230312T070000
END:DAYLIGHT
BEGIN:STANDARD
TZOFFSETFROM:-0400
TZOFFSETTO:-0500
TZNAME:EST
DTSTART:20231105T060000
END:STANDARD
END:VTIMEZONE
BEGIN:VTIMEZONE
TZID:America/Kentucky/Louisville
BEGIN:DAYLIGHT
TZOFFSETFROM:-0500
TZOFFSETTO:-0400
TZNAME:EDT
DTSTART:20200308T070000
END:DAYLIGHT
BEGIN:STANDARD
TZOFFSETFROM:-0400
TZOFFSETTO:-0500
TZNAME:EST
DTSTART:20201101T060000
END:STANDARD
BEGIN:DAYLIGHT
TZOFFSETFROM:-0500
TZOFFSETTO:-0400
TZNAME:EDT
DTSTART:20210314T070000
END:DAYLIGHT
BEGIN:STANDARD
TZOFFSETFROM:-0400
TZOFFSETTO:-0500
TZNAME:EST
DTSTART:20211107T060000
END:STANDARD
BEGIN:DAYLIGHT
TZOFFSETFROM:-0500
TZOFFSETTO:-0400
TZNAME:EDT
DTSTART:20220313T070000
END:DAYLIGHT
BEGIN:STANDARD
TZOFFSETFROM:-0400
TZOFFSETTO:-0500
TZNAME:EST
DTSTART:20221106T060000
END:STANDARD
END:VTIMEZONE
BEGIN:VEVENT
DTSTART;VALUE=DATE:20220307
DTEND;VALUE=DATE:20220308
DTSTAMP:20260424T012825
CREATED:20220124T133419Z
LAST-MODIFIED:20220124T133419Z
UID:14352-1646611200-1646697599@kyhortcouncil.org
SUMMARY:Spring Vineyard and Winery Workshop
DESCRIPTION:The UK Grape & Wine program will be hosting a free vineyard and winery workshop at the UK horticulture research farm in Lexington. Registration is required. Details available in early February. For more information\, contact: \nPatsy E. Wilson\nExtension Specialist – Viticulture\nDepartment of Horticulture\nUniversity of Kentucky\nLexington\, KY 40546-0091 \nPh: 859-494-1657 (cell) \nE: patsy.wilson@uky.edu
URL:https://kyhortcouncil.org/event/spring-vineyard-and-winery-workshop/
ORGANIZER;CN="UK Horticulture":MAILTO:dingram@uky.edu
END:VEVENT
BEGIN:VEVENT
DTSTART;TZID=UTC:20220215T083000
DTEND;TZID=UTC:20220217T170000
DTSTAMP:20260424T012825
CREATED:20220124T133623Z
LAST-MODIFIED:20220124T133623Z
UID:14354-1644913800-1645117200@kyhortcouncil.org
SUMMARY:45th Annual KY Turf & Landscape Short Course
DESCRIPTION:The 45th Annual Turf & Landscape Short Course is happening! The event will be at the Hardin Co Extension Center (Elizabethtown)\, Wednesday 2/16 and Thursday 2/17\, with a pre-conference new employee pesticide certification training and testing on Tuesday\, 2/15. Each day begins at 8:45 am (EST)\, concluding at about 4:00 pm EST. Both Short Course days will offer CEUs to fulfill the requirement for your Kentucky pesticide applicator license. Full event details are available on the event website: https://kyhortcouncil.org/2022-turf-short-course/ and registration is available on Eventbrite: https://2022kyturfshortcourse.eventbrite.com/
URL:https://kyhortcouncil.org/event/45th-annual-ky-turf-landscape-short-course/
END:VEVENT
BEGIN:VEVENT
DTSTART;TZID=America/New_York:20220208T123000
DTEND;TZID=America/New_York:20220208T130000
DTSTAMP:20260424T012825
CREATED:20220112T165632Z
LAST-MODIFIED:20220112T170144Z
UID:14323-1644323400-1644325200@kyhortcouncil.org
SUMMARY:Crop Insurance Webinar: Q&A with an Insurance Agent
DESCRIPTION:In February’s crop insurance webinar\, we will be speaking with an insurance agent and asking YOUR questions! You can email questions to dakota@kyhortcouncil.org ahead of time\, or you can drop them in the chat during the webinar. Join us at 12:30 pm ET|11:30 am CT. To register for the live webinars\, use the following link: https://us06web.zoom.us/meeting/register/tZcvf-iuqDgtG9PpErwxskqi8kZ3fVIRaULI
URL:https://kyhortcouncil.org/event/crop-insurance-webinar-qa-with-an-insurance-agent/
END:VEVENT
BEGIN:VEVENT
DTSTART;VALUE=DATE:20220127
DTEND;VALUE=DATE:20220130
DTSTAMP:20260424T012825
CREATED:20210901T202249Z
LAST-MODIFIED:20210901T202323Z
UID:13915-1643241600-1643500799@kyhortcouncil.org
SUMMARY:OAK Virtual Conference
DESCRIPTION:Virtual Conference on January 27 – 29: Spread out over 3 days\, sessions will be live. All elements of the conference will be recorded and available for viewing up to a year after the event. The virtual event platform Whova elevates sponsor visibility and engagement through an interactive profile and messaging. \nRegistration opens in September for the Virtual Conference.  \nStay tuned for in-person event details. \nSpeakers and agendas to be announced this Fall!
URL:https://kyhortcouncil.org/event/oak-virtual-conference/
END:VEVENT
BEGIN:VEVENT
DTSTART;TZID=UTC:20220124T183000
DTEND;TZID=UTC:20220124T200000
DTSTAMP:20260424T012825
CREATED:20220124T134002Z
LAST-MODIFIED:20220124T134002Z
UID:14356-1643049000-1643054400@kyhortcouncil.org
SUMMARY:Winter IPM for Cut Flower Production
DESCRIPTION:This January session of the Virtual Cut Flower Short Course will focus on Winter Integrated Pest Management (IPM) Strategies for Cut Flower Production. Dr. Jonathan Larson\, UK Extension Entomologist\, will discuss several insects that can cause problems in cut flower operations and Dr. Nicole Gauthier\, UK Extension Plant Pathologist\, will cover specific cut flower diseases. Class is free and will be offered via the Zoom platform. Program begins at 5:30 PM Central Time/6:30 PM Eastern Time. \nAdvanced registration is encouraged. To register\, click on the link listed below: \nhttps://uky.zoom.us/meeting/register/tZMudOupqzIqHtPNp6tnn5kNScT2FGezibLV
URL:https://kyhortcouncil.org/event/winter-ipm-for-cut-flower-production/
END:VEVENT
BEGIN:VEVENT
DTSTART;TZID=America/New_York:20220111T123000
DTEND;TZID=America/New_York:20220111T130000
DTSTAMP:20260424T012825
CREATED:20220110T162109Z
LAST-MODIFIED:20220110T162109Z
UID:14308-1641904200-1641906000@kyhortcouncil.org
SUMMARY:Crop Insurance Recordkeeping Live Webinar
DESCRIPTION:In our first 2022 Crop Insurance webinar\, we will take a look at the types of farm records you might need when applying for crop insurance. We’ll also flip through the KHC Recordkeeping Workbook. You can find a PDF download of this workbook we put together here: https://kyhortcouncil.org/wp-content/uploads/2022/01/Kentucky-Horticulture-Council-Recordkeeping-Workbook.pdf and feel free to pick and choose the pages that work best for you. To register for the live webinars\, use the following link: https://us06web.zoom.us/meeting/register/tZcvf-iuqDgtG9PpErwxskqi8kZ3fVIRaULI. \nIf you have any questions about crop insurance\, email us at dakota@kyhortcouncil.org
URL:https://kyhortcouncil.org/event/crop-insurance-recordkeeping-live-webinar/
END:VEVENT
BEGIN:VEVENT
DTSTART;VALUE=DATE:20220102
DTEND;VALUE=DATE:20220105
DTSTAMP:20260424T012825
CREATED:20210901T203435Z
LAST-MODIFIED:20210901T205650Z
UID:13921-1641081600-1641340799@kyhortcouncil.org
SUMMARY:2022 KY Fruit & Vegetable Conference
DESCRIPTION:2022 Kentucky Fruit and Vegetable Conference hosted by the Kentucky State Horticultural Society (166th Annual Meeting) and Kentucky Vegetable Growers Association (51st Annual Meeting) and Organic Association of Kentucky and Kentucky Wine Association in cooperation with University of Kentucky College of Agriculture\, Food\, and Environment\, Kentucky State University\, and Kentucky Department of Agriculture.\n\nThis premier\, state-wide event annually brings together more than 500 growers\, researchers\, and technical support providers. The conference kicks-off with pre-conference events including fruit and vegetable grower roundtable discussions with university specialists where the group debriefs on the production year\, challenges are discussed and questions are answered. The main conference program has more than 20 different educational tracts with more than 70 speakers. The trade show offers more than 70 vendors featuring horticulture products and services.
URL:https://kyhortcouncil.org/event/2022-ky-fruit-vegetable-conference/
END:VEVENT
BEGIN:VEVENT
DTSTART;TZID=America/Kentucky/Louisville:20211228T123000
DTEND;TZID=America/Kentucky/Louisville:20211228T130000
DTSTAMP:20260424T012825
CREATED:20210916T191735Z
LAST-MODIFIED:20210916T191936Z
UID:13987-1640694600-1640696400@kyhortcouncil.org
SUMMARY:Crop Insurance Video #4: Vegetable\, Fruit\, and Nut Crops
DESCRIPTION:In our last video of 2021 for our Crop Insurance for Specialty Growers series\, we will be discussing vegetable\, fruit\, and nut crop insurance. Find the video on our Facebook page at https://www.facebook.com/KYHortCouncil/  or our YouTube page at https://www.youtube.com/channel/UCsbal0u__ba77aw2UTk1KZA. Be sure to check out all the other videos and recorded webinars in this series while you are there. Our series will continue in 2022 with a live webinar on January 11\, 2022 so if you are new to the series\, click this link to register https://us06web.zoom.us/meeting/register/tZcvf-iuqDgtG9PpErwxskqi8kZ3fVIRaULI
URL:https://kyhortcouncil.org/event/crop-insurance-video-4-vegetable-fruit-and-nut-crops/
END:VEVENT
BEGIN:VEVENT
DTSTART;TZID=America/Kentucky/Louisville:20211214T123000
DTEND;TZID=America/Kentucky/Louisville:20211214T130000
DTSTAMP:20260424T012825
CREATED:20210916T191629Z
LAST-MODIFIED:20210916T191629Z
UID:13985-1639485000-1639486800@kyhortcouncil.org
SUMMARY:Crop Insurance Webinar #3: WFRP (Whole Farm Revenue Protection)
DESCRIPTION:For our final 2021 webinar\, we will be learning about Whole Farm Revenue Protection (WFRP) insurance. WFRP is a topic most specialty growers will want to learn more about so this is not a webinar you want to miss! You can register to attend here https://us06web.zoom.us/meeting/register/tZcvf-iuqDgtG9PpErwxskqi8kZ3fVIRaULI and you can watch the previous webinars and other recorded conversations on our Facebook page at https://www.facebook.com/KYHortCouncil/  or our YouTube page at https://www.youtube.com/channel/UCsbal0u__ba77aw2UTk1KZA. Check back at the end of the month for another recorded video and check back next month for our first webinar of 2022.
URL:https://kyhortcouncil.org/event/crop-insurance-webinar-3-wfrp-whole-farm-revenue-protection/
END:VEVENT
BEGIN:VEVENT
DTSTART;TZID=UTC:20211206T113000
DTEND;TZID=UTC:20211206T130000
DTSTAMP:20260424T012825
CREATED:20211017T030946Z
LAST-MODIFIED:20211017T030946Z
UID:14121-1638790200-1638795600@kyhortcouncil.org
SUMMARY:MarketReady: Marketing
DESCRIPTION:Following our MarketReady Producer Training\, we are hosting a five week series on MarketReady Advanced Topics. These are deeper dives into our various Producer Training topics. \nVisit https://www.uky.edu/marketready
URL:https://kyhortcouncil.org/event/marketready-marketing/
END:VEVENT
BEGIN:VEVENT
DTSTART;TZID=America/Kentucky/Louisville:20211130T123000
DTEND;TZID=America/Kentucky/Louisville:20211130T130000
DTSTAMP:20260424T012825
CREATED:20210916T191511Z
LAST-MODIFIED:20210916T191511Z
UID:13983-1638275400-1638277200@kyhortcouncil.org
SUMMARY:Crop Insurance Video #3: Nursery Crops
DESCRIPTION:Look out for a new video today in our series on Crop Insurance for Specialty Crop Growers. We will be discussing what crop insurance options are available for Nursery Crops. To watch\, check out our Facebook page at https://www.facebook.com/KYHortCouncil/  or our YouTube page at https://www.youtube.com/channel/UCsbal0u__ba77aw2UTk1KZA. While there\, you can also find our first two videos and recordings of our first two webinars. We hope to see you at our next live webinar on December 14th at 12:30 pm ET/11:30 am CT. You can still register for the webinar series here https://us06web.zoom.us/meeting/register/tZcvf-iuqDgtG9PpErwxskqi8kZ3fVIRaULI
URL:https://kyhortcouncil.org/event/crop-insurance-video-3-nursery-crops/
END:VEVENT
BEGIN:VEVENT
DTSTART;TZID=UTC:20211129T113000
DTEND;TZID=UTC:20211129T130000
DTSTAMP:20260424T012825
CREATED:20211017T030833Z
LAST-MODIFIED:20211017T030833Z
UID:14119-1638185400-1638190800@kyhortcouncil.org
SUMMARY:MarketReady: Logistics & Distribution
DESCRIPTION:Following our MarketReady Producer Training\, we are hosting a five week series on MarketReady Advanced Topics. These are deeper dives into our various Producer Training topics. \nVisit https://www.uky.edu/marketready
URL:https://kyhortcouncil.org/event/marketready-logistics-distribution/
END:VEVENT
BEGIN:VEVENT
DTSTART;TZID=UTC:20211122T113000
DTEND;TZID=UTC:20211122T130000
DTSTAMP:20260424T012825
CREATED:20211017T030700Z
LAST-MODIFIED:20211017T030700Z
UID:14117-1637580600-1637586000@kyhortcouncil.org
SUMMARY:MarketReady: Quality Assurance
DESCRIPTION:Following our MarketReady Producer Training\, we are hosting a five week series on MarketReady Advanced Topics. These are deeper dives into our various Producer Training topics. \nVisit https://www.uky.edu/marketready
URL:https://kyhortcouncil.org/event/marketready-quality-assurance/
END:VEVENT
BEGIN:VEVENT
DTSTART;TZID=UTC:20211117T080000
DTEND;TZID=UTC:20211117T170000
DTSTAMP:20260424T012825
CREATED:20211017T020457Z
LAST-MODIFIED:20211017T020457Z
UID:14104-1637136000-1637168400@kyhortcouncil.org
SUMMARY:FSMA PSA Grower Training (online)
DESCRIPTION:Who Should Attend: Fruit and vegetable growers and others interested in learning about produce safety\, Good Agricultural Practices (GAPs)\, co-management\, and the proposed FDA’s Food Safety Modernization Act (FSMA) Produce Safety Rule. \nRegister by October 20 with: \nCasey Newcomb (casey.newcomb@uky.edu) \nFood Systems Innovation Center \n213 W. P. Garrigus Building \n325 Cooper Drive Lexington\, \nKY 40546-0215 \nPhone: 859-257-1546 \nOnline registration: https://uky.az1.qualtrics.com/jfe/form/SV_3OgYNDMwg9d1p7T \nYou will get a Zoom link after registration. \nFee: Free for KY produce growers. \nFor more information about scheduled PSA Grower Training Courses in Kentucky\, please visit the Food Systems Innovation Center website at https://www.uky.edu/fsic/trainings.php
URL:https://kyhortcouncil.org/event/fsma-psa-grower-training-online-2/
END:VEVENT
BEGIN:VEVENT
DTSTART;TZID=UTC:20211115T113000
DTEND;TZID=UTC:20211115T130000
DTSTAMP:20260424T012825
CREATED:20211017T030538Z
LAST-MODIFIED:20211017T030538Z
UID:14115-1636975800-1636981200@kyhortcouncil.org
SUMMARY:MarketReady: Insurance & Communication
DESCRIPTION:Following our MarketReady Producer Training\, we are hosting a five week series on MarketReady Advanced Topics. These are deeper dives into our various Producer Training topics. \nVisit https://www.uky.edu/marketready
URL:https://kyhortcouncil.org/event/marketready-insurance-communication/
END:VEVENT
BEGIN:VEVENT
DTSTART;TZID=UTC:20211112T080000
DTEND;TZID=UTC:20211112T170000
DTSTAMP:20260424T012825
CREATED:20211017T020107Z
LAST-MODIFIED:20211017T020107Z
UID:14102-1636704000-1636736400@kyhortcouncil.org
SUMMARY:FSMA Produce Safety Rule Training (in-person)
DESCRIPTION:Fruit and vegetable growers and others interested in learning about produce safety\, Good Agricultural Practices (GAPs)\, co-management\, and the FDA’s Food Safety Modernization Act (FSMA) Produce Safety Rule. \nFor more information about scheduled PSA Grower Training Courses in Kentucky\, please visit the Food Systems Innovation Center website at https://www.uky.edu/fsic/trainings.php \nDeadline to register is Nov. 8\, 2021
URL:https://kyhortcouncil.org/event/fsma-produce-safety-rule-training-in-person/
END:VEVENT
BEGIN:VEVENT
DTSTART;TZID=America/Kentucky/Louisville:20211109T123000
DTEND;TZID=America/Kentucky/Louisville:20211109T130000
DTSTAMP:20260424T012825
CREATED:20210916T191336Z
LAST-MODIFIED:20210916T191336Z
UID:13981-1636461000-1636462800@kyhortcouncil.org
SUMMARY:Crop Insurance Webinar #2: MPCI (Multi-Peril Crop Insurance)
DESCRIPTION:In our second Crop Insurance webinar\, we’ll learn all about Multi-Peril Crop Insurance (MPCI) and the options available for specialty crop growers in Kentucky. Join us for Lunch and Learn at 12:30 pm ET/11:30 am CT. If you haven’t registered for the webinar\, follow the link https://us06web.zoom.us/meeting/register/tZcvf-iuqDgtG9PpErwxskqi8kZ3fVIRaULI and don’t forget to watch our past crop insurance videos and our first webinar on Facebook and YouTube to catch up. And set a notification for our next video on Crop Insurance for Nursery Crops on 11/30/21.
URL:https://kyhortcouncil.org/event/crop-insurance-webinar-2-mpci-multi-peril-crop-insurance/
END:VEVENT
BEGIN:VEVENT
DTSTART;TZID=UTC:20211108T113000
DTEND;TZID=UTC:20211108T130000
DTSTAMP:20260424T012825
CREATED:20211017T030416Z
LAST-MODIFIED:20211017T030416Z
UID:14113-1636371000-1636376400@kyhortcouncil.org
SUMMARY:Market Ready: Packaging & Labeling
DESCRIPTION:Following our MarketReady Producer Training\, we are hosting a five week series on MarketReady Advanced Topics. These are deeper dives into our various Producer Training topics. \nVisit https://www.uky.edu/marketready
URL:https://kyhortcouncil.org/event/market-ready-packaging-labeling/
END:VEVENT
BEGIN:VEVENT
DTSTART;TZID=UTC:20211105T110000
DTEND;TZID=UTC:20211105T123000
DTSTAMP:20260424T012825
CREATED:20211017T030028Z
LAST-MODIFIED:20211017T030028Z
UID:14111-1636110000-1636115400@kyhortcouncil.org
SUMMARY:Market Ready Producer Training (virtual)
DESCRIPTION:MarketReady educates producers interested in expanding their business\nand products into wholesale\, retail\, and restaurant markets. \nVisit https://www.uky.edu/marketready
URL:https://kyhortcouncil.org/event/market-ready-producer-training-virtual-2/
END:VEVENT
BEGIN:VEVENT
DTSTART;TZID=UTC:20211104T110000
DTEND;TZID=UTC:20211104T123000
DTSTAMP:20260424T012825
CREATED:20211017T025917Z
LAST-MODIFIED:20211017T025917Z
UID:14109-1636023600-1636029000@kyhortcouncil.org
SUMMARY:Market Ready Producer Training (virtual)
DESCRIPTION:MarketReady educates producers interested in expanding their business\nand products into wholesale\, retail\, and restaurant markets. \nVisit https://www.uky.edu/marketready
URL:https://kyhortcouncil.org/event/market-ready-producer-training-virtual/
END:VEVENT
BEGIN:VEVENT
DTSTART;TZID=UTC:20211101T180000
DTEND;TZID=UTC:20211101T193000
DTSTAMP:20260424T012825
CREATED:20211017T025737Z
LAST-MODIFIED:20211017T025737Z
UID:14106-1635789600-1635795000@kyhortcouncil.org
SUMMARY:Market Ready Training (Virtual)
DESCRIPTION:MarketReady educates producers interested in expanding their business\nand products into wholesale\, retail\, and restaurant markets. \nVisit https://www.uky.edu/marketready
URL:https://kyhortcouncil.org/event/market-ready-training-virtual/
END:VEVENT
BEGIN:VEVENT
DTSTART;TZID=America/Kentucky/Louisville:20211026T123000
DTEND;TZID=America/Kentucky/Louisville:20211026T130000
DTSTAMP:20260424T012825
CREATED:20210915T183927Z
LAST-MODIFIED:20210915T183927Z
UID:13977-1635251400-1635253200@kyhortcouncil.org
SUMMARY:Crop Insurance Video #2: 5 Questions You Should Ask an Insurance Agent
DESCRIPTION:Join us at 12:30 pm ET/11:30 am CT for a new video in our series on Crop Insurance for Specialty Crop Growers. We will find out what you should be asking your crop insurance agent\, straight from the source. To watch the new video\, last month’s video\, and our 1st webinar from earlier in October\, head on over to our Facebook page at https://www.facebook.com/KYHortCouncil/  or our YouTube page at https://www.youtube.com/channel/UCsbal0u__ba77aw2UTk1KZA. Don’t forget to like\, subscribe\, and follow so you get notified when our videos post! And if you still haven’t registered for the webinar series\, follow the link because it’s not too late: https://us06web.zoom.us/meeting/register/tZcvf-iuqDgtG9PpErwxskqi8kZ3fVIRaULI
URL:https://kyhortcouncil.org/event/crop-insurance-video-2-5-questions-you-should-ask-an-insurance-agent/
END:VEVENT
BEGIN:VEVENT
DTSTART;TZID=UTC:20211026T080000
DTEND;TZID=UTC:20211026T170000
DTSTAMP:20260424T012825
CREATED:20210926T134939Z
LAST-MODIFIED:20210926T135005Z
UID:14039-1635235200-1635267600@kyhortcouncil.org
SUMMARY:FSMA PSA Grower Training (online)
DESCRIPTION:Who Should Attend: Fruit and vegetable growers and others interested in learning about produce safety\, Good Agricultural Practices (GAPs)\, co-management\, and the proposed FDA’s Food Safety Modernization Act (FSMA) Produce Safety Rule. \nRegister by September 29 with: \nCasey Newcomb (casey.newcomb@uky.edu) \nFood Systems Innovation Center \n213 W. P. Garrigus Building \n325 Cooper Drive Lexington\, \nKY 40546-0215 \nPhone: 859-257-1546 \nOnline registration: https://uky.az1.qualtrics.com/jfe/form/SV_3OgYNDMwg9d1p7T \nYou will get a Zoom link after registration. \nFee: Free for KY produce growers. \nFor more information about scheduled PSA Grower Training Courses in Kentucky\, please visit the Food Systems Innovation Center website at https://www.uky.edu/fsic/trainings.php
URL:https://kyhortcouncil.org/event/fsma-psa-grower-training-online/
END:VEVENT
BEGIN:VEVENT
DTSTART;TZID=UTC:20211020T130000
DTEND;TZID=UTC:20211020T160000
DTSTAMP:20260424T012825
CREATED:20211017T015303Z
LAST-MODIFIED:20211017T015303Z
UID:14100-1634734800-1634745600@kyhortcouncil.org
SUMMARY:OAK Farmer Field Day: Cultivating a Successful CSA with Production Efficiencies and Standard Operating Procedures
DESCRIPTION:Cultivating a Successful CSA with Production Efficiencies and Standard Operating Procedures\nUK Organic Farming Unit\, Lexington KY\nOctober 20\, 2021\, 1-4pm ET\nThe success of any CSA depends heavily on the planning\, organization\, and efficiency of the farm operations and its people – a process that’s been analyzed\, documented\, and improved consistently for over a decade at the UK Organic Farming Unit.\nJoin Kristi Durbin\, UK’s CSA Manager\, as she shares the importance of data collection\, documentation\, and evaluation to improve procedures and efficiencies from field to harvest\, including an overview of the crop planning and planting resources that she’s meticulously curated. Kristi will offer lessons learned regarding scaling up a CSA\, training workers\, packaging\, and presentation.\nIn consideration of safety and respect for all hosts\, participants\, and staff\, COVID-19 protocols for outdoor gatherings will be in place for this event\, based on guidance from the Centers for Disease Control\, Commonwealth of Kentucky\, and the University of Kentucky. Protocol will include limited attendance\, social distancing\, and face masks. Details will be finalized and provided in the week before the event.\nOpen to all\, this Field Day is geared toward current or aspiring production farmers\, and allied professionals. $5 OAK Members; $10 non-Members\nPre-registration is required at https://www.oak-ky.org/farmer-field-days-2021
URL:https://kyhortcouncil.org/event/oak-farmer-field-day-cultivating-a-successful-csa-with-production-efficiencies-and-standard-operating-procedures/
END:VEVENT
BEGIN:VEVENT
DTSTART;VALUE=DATE:20211019
DTEND;VALUE=DATE:20211020
DTSTAMP:20260424T012825
CREATED:20210109T221017Z
LAST-MODIFIED:20210109T221017Z
UID:13217-1634601600-1634687999@kyhortcouncil.org
SUMMARY:Cultivating a Successful CSA with Production Efficiencies and Standard Operating Procedures at UK's Organic Farming Unit
DESCRIPTION:Lexington KY \nSave the Date!  More details: https://www.oak-ky.org/farmer-field-days-2021
URL:https://kyhortcouncil.org/event/cultivating-a-successful-csa-with-production-efficiencies-and-standard-operating-procedures-at-uks-organic-farming-unit/
END:VEVENT
BEGIN:VEVENT
DTSTART;TZID=America/Kentucky/Louisville:20211012T123000
DTEND;TZID=America/Kentucky/Louisville:20211012T130000
DTSTAMP:20260424T012825
CREATED:20210915T182529Z
LAST-MODIFIED:20210915T183948Z
UID:13974-1634041800-1634043600@kyhortcouncil.org
SUMMARY:Crop Insurance Webinar #1: What a Grower Needs Before Going to an Agent
DESCRIPTION:Join us for our first live\, interactive webinar in our series on Crop Insurance for Specialty Crop Growers. We’ll speak with a crop insurance agent to find out what growers need before they go to an agent about purchasing crop insurance. Bring your questions and a lunch for our Lunch and Learn at 12:30 pm ET/11:30 am CT. If you haven’t registered for the webinar\, follow the link https://us06web.zoom.us/meeting/register/tZcvf-iuqDgtG9PpErwxskqi8kZ3fVIRaULI and don’t forget to watch our Crop Insurance Basics video posted on Facebook and YouTube on September 28. And be on the lookout for our next Facebook and YouTube video on October 26 about 5 Questions You Should Ask an Insurance Agent.
URL:https://kyhortcouncil.org/event/crop-insurance-webinar-1-what-a-grower-needs-before-going-to-an-agent/
END:VEVENT
BEGIN:VEVENT
DTSTART;TZID=UTC:20210928T080000
DTEND;TZID=UTC:20210928T170000
DTSTAMP:20260424T012825
CREATED:20210901T210047Z
LAST-MODIFIED:20210901T210443Z
UID:13923-1632816000-1632848400@kyhortcouncil.org
SUMMARY:FSMA PSA Grower Training (online)
DESCRIPTION:Who Should Attend: Fruit and vegetable growers and others interested in learning about produce safety\, Good Agricultural Practices (GAPs)\, co-management\, and the proposed FDA’s Food Safety Modernization Act (FSMA) Produce Safety Rule. \nRegister by September 1 with: \nCasey Newcomb (casey.newcomb@uky.edu) \nFood Systems Innovation Center \n213 W. P. Garrigus Building \n325 Cooper Drive Lexington\, \nKY 40546-0215 \nPhone: 859-257-1546 \nOnline registration: https://uky.az1.qualtrics.com/jfe/form/SV_3OgYNDMwg9d1p7T \nYou will get a Zoom link after registration. \nFee: Free for KY produce growers. \nFor more information about scheduled PSA Grower Training Courses in Kentucky\, please visit the Food Systems Innovation Center website at https://www.uky.edu/fsic/trainings.php
URL:https://kyhortcouncil.org/event/fsma-psa-grower-training/
END:VEVENT
BEGIN:VEVENT
DTSTART;TZID=America/Kentucky/Louisville:20210928T003000
DTEND;TZID=America/Kentucky/Louisville:20210928T130000
DTSTAMP:20260424T012825
CREATED:20210915T181337Z
LAST-MODIFIED:20210915T182701Z
UID:13971-1632789000-1632834000@kyhortcouncil.org
SUMMARY:Crop Insurance for Specialty Crop Growers Series Launch
DESCRIPTION:Join us at 12:30 pm ET/11:30 am CT for the launch of our series on Crop Insurance for Specialty Crop Growers with our first recorded video on the Basics of Crop Insurance. Head on over to our Facebook page at https://www.facebook.com/KYHortCouncil/  or our YouTube page at https://www.youtube.com/channel/UCsbal0u__ba77aw2UTk1KZA to watch the video and find out what our project has in store over the next year. Be sure to check back because recorded videos will be posted periodically on the KHC Facebook and YouTube pages with additional information and conversations with crop insurance experts. The live\, interactive webinars will begin on October 12\, 2021\, with monthly webinars every 2nd Tuesday of each month through September 2022. To register for the live webinars\, use the following link: https://us06web.zoom.us/meeting/register/tZcvf-iuqDgtG9PpErwxskqi8kZ3fVIRaULI
URL:https://kyhortcouncil.org/event/crop-insurance-for-specialty-crop-growers-series-launch/
END:VEVENT
BEGIN:VEVENT
DTSTART;TZID=UTC:20210914T090000
DTEND;TZID=UTC:20210914T150000
DTSTAMP:20260424T012825
CREATED:20210601T142852Z
LAST-MODIFIED:20210601T142852Z
UID:13766-1631610000-1631631600@kyhortcouncil.org
SUMMARY:LAND Forum: Shelbyville
DESCRIPTION:LAND (Linking Agriculture for Networking and Development) forum sponsored by the Kentucky Department of Agriculture (KDA) and Kentucky Association of Manufacturers (KAM). Agenda and registration: https://kam.us.com/land-forums/
URL:https://kyhortcouncil.org/event/land-forum-shelbyville/
END:VEVENT
BEGIN:VEVENT
DTSTART;TZID=UTC:20210909T090000
DTEND;TZID=UTC:20210909T150000
DTSTAMP:20260424T012825
CREATED:20210601T142753Z
LAST-MODIFIED:20210601T142753Z
UID:13764-1631178000-1631199600@kyhortcouncil.org
SUMMARY:LAND Forum: Jackson
DESCRIPTION:LAND (Linking Agriculture for Networking and Development) forum sponsored by the Kentucky Department of Agriculture (KDA) and Kentucky Association of Manufacturers (KAM). Agenda and registration: https://kam.us.com/land-forums/
URL:https://kyhortcouncil.org/event/land-forum-jackson/
END:VEVENT
END:VCALENDAR