BEGIN:VCALENDAR
VERSION:2.0
PRODID:-//Kentucky Horticulture Council - ECPv6.15.20//NONSGML v1.0//EN
CALSCALE:GREGORIAN
METHOD:PUBLISH
X-ORIGINAL-URL:https://kyhortcouncil.org
X-WR-CALDESC:Events for Kentucky Horticulture Council
REFRESH-INTERVAL;VALUE=DURATION:PT1H
X-Robots-Tag:noindex
X-PUBLISHED-TTL:PT1H
BEGIN:VTIMEZONE
TZID:UTC
BEGIN:STANDARD
TZOFFSETFROM:+0000
TZOFFSETTO:+0000
TZNAME:UTC
DTSTART:20170101T000000
END:STANDARD
END:VTIMEZONE
BEGIN:VEVENT
DTSTART;TZID=UTC:20180913T080000
DTEND;TZID=UTC:20180913T180000
DTSTAMP:20260425T200936
CREATED:20180907T223401Z
LAST-MODIFIED:20180907T223401Z
UID:241-1536825600-1536861600@kyhortcouncil.org
SUMMARY:KNLA Summer Outing 2018
DESCRIPTION:Join the Kentucky Nursery and Landscape Association (KNLA) for the summer educational program.  The event is getting back to the basics a little bit this year and bringing in speakers and exhibitors that can help you in your day-to-day business. There will be something for everyone\, from the landscaper\, grower\, designer\, to billing specialist\, fleet manager\, etc. Everyone is welcome and we’ll be sure to have something new and valuable for them to learn.
URL:https://kyhortcouncil.org/event/knla-summer-outing-2018/
LOCATION:City Place\, LaGrange\, KY\, 112 S. 1st Ave\, LaGrange\, KY\, 40031\, United States
END:VEVENT
BEGIN:VEVENT
DTSTART;TZID=UTC:20180906T090000
DTEND;TZID=UTC:20180906T120000
DTSTAMP:20260425T200936
CREATED:20180706T181229Z
LAST-MODIFIED:20180706T181450Z
UID:99-1536224400-1536235200@kyhortcouncil.org
SUMMARY:High Tunnel Field Day
DESCRIPTION:
URL:https://kyhortcouncil.org/event/high-tunnel-field-day/
LOCATION:Good Thymes Farm\, 6909 W. Highway 92\, Williamsburg\, KY\, United States
END:VEVENT
BEGIN:VEVENT
DTSTART;TZID=UTC:20180829T080000
DTEND;TZID=UTC:20180829T163000
DTSTAMP:20260425T200936
CREATED:20180725T140604Z
LAST-MODIFIED:20180725T140604Z
UID:120-1535529600-1535560200@kyhortcouncil.org
SUMMARY:Small Producer Workshop
DESCRIPTION:Kentucky State University is hosting a free workshop on cooperative development and marketing\, business planning\, funding resources (grants and loans)\, marketing\, and recordkeeping at a location TBA from 8:00 am – 4:30 pm (local time).  Register via email: Cynthia.Rice@kysu.edu
URL:https://kyhortcouncil.org/event/small-producer-workshop-6/
END:VEVENT
BEGIN:VEVENT
DTSTART;TZID=UTC:20180828T080000
DTEND;TZID=UTC:20180828T163000
DTSTAMP:20260425T200936
CREATED:20180725T140507Z
LAST-MODIFIED:20180725T140507Z
UID:118-1535443200-1535473800@kyhortcouncil.org
SUMMARY:Small Producer Workshop
DESCRIPTION:Kentucky State University is hosting a free workshop on cooperative development and marketing\, business planning\, funding resources (grants and loans)\, marketing\, and recordkeeping at the Russell County Cooperative Extension Service Office from 8:00 am – 4:30 pm (local time).  Register via email: Cynthia.Rice@kysu.edu
URL:https://kyhortcouncil.org/event/small-producer-workshop-5/
END:VEVENT
BEGIN:VEVENT
DTSTART;TZID=UTC:20180825T180000
DTEND;TZID=UTC:20180825T210000
DTSTAMP:20260425T200936
CREATED:20180802T183149Z
LAST-MODIFIED:20180802T183149Z
UID:175-1535220000-1535230800@kyhortcouncil.org
SUMMARY:Farmers for America Film Screening
DESCRIPTION:Loyal Jones Appalachian Center\, 205 North Main St\, Berea\, KY 40404\n“Farmers For America is all about supporting young farmers. We face a unique moment in America’s agriculture. The average age of the U.S. farmer is 60 years old. Half of our farmland is going to change hands in the next 12 years. It’s a time of upheaval\, risk\, and extraordinary opportunity. To continue to feed ourselves in the years ahead\, we need a new generation of young people to step forward.” Come out and join the filmmaker on Saturday\, August 25th to view the film and participate in a discussion on the future of the American farm. Admission is $10 at the door.
URL:https://kyhortcouncil.org/event/farmers-for-america-film-screening/
END:VEVENT
BEGIN:VEVENT
DTSTART;TZID=UTC:20180820T093000
DTEND;TZID=UTC:20180820T153000
DTSTAMP:20260425T200936
CREATED:20180802T175928Z
LAST-MODIFIED:20180802T175928Z
UID:160-1534757400-1534779000@kyhortcouncil.org
SUMMARY:Transitional Organic Vegetable Producion
DESCRIPTION:Carter Farms\, North Madisonville\, KY\nSee how transitioning to certified organic production is possible on this diversified vegetable farm. Hear from the farmer and how they prepared for certification. Learn about market opportunities from  Jon Cambron (Organic Valley)\, organic production best practices from Dr. Shawn Lucas  (KSU) and considerations for transitioning production and applying for certification from Tony Silvernail (OAK Transition Trainer) and Brooke Gentile (OAK). Speakers followed by farm tour and lunch. See the full agenda here. Limited Transportation available from Christian County Extension Office. Register with Austin Wright: austin.wright@kysu.edu
URL:https://kyhortcouncil.org/event/transitional-organic-vegetable-producion/
END:VEVENT
BEGIN:VEVENT
DTSTART;TZID=UTC:20180816T100000
DTEND;TZID=UTC:20180816T150000
DTSTAMP:20260425T200936
CREATED:20180802T182451Z
LAST-MODIFIED:20180802T182451Z
UID:173-1534413600-1534431600@kyhortcouncil.org
SUMMARY:MarketReady (KSU's Third Thursday Thing)
DESCRIPTION:MarketReady seeks to educate local food suppliers to help them succeed in today’s local markets. The program is designed for those who sell agricultural products\, and teachers how to establish an efficient business and food safety strategy to achieve sccess. If you’re interested in selling to restaurants\, grocers/wholesalers/retailers\, and schools MarketReady can help you. Also\, those who want to explore ways to improve their sales skills\, are considering or developing a new food business\, and those currently selling to these markets who may wish to enhance their current business relationships can utilize this program. \nThis MarketReady training will cover the Restaurant sales\, Grocery/ Wholesale/Retail sales and Farm to School business functions. There is no admission cost for this training. \nFor additional information\, please contact Alex Butler at Alex.Butler@uky.edu\, (859)218-4383 or Shelley Spiggle at Shelley.Spiggle@kysu.edu\, (502)597-6325
URL:https://kyhortcouncil.org/event/marketready-ksus-third-thursday-thing/
END:VEVENT
BEGIN:VEVENT
DTSTART;TZID=UTC:20180815T080000
DTEND;TZID=UTC:20180815T163000
DTSTAMP:20260425T200936
CREATED:20180725T140411Z
LAST-MODIFIED:20180725T140411Z
UID:116-1534320000-1534350600@kyhortcouncil.org
SUMMARY:Small Producer Workshop
DESCRIPTION:Kentucky State University is hosting a free workshop on cooperative development and marketing\, business planning\, funding resources (grants and loans)\, marketing\, and recordkeeping at the Bath County Cooperative Extension Service Office from 8:00 am – 4:30 pm (local time).  Register via email: Cynthia.Rice@kysu.edu
URL:https://kyhortcouncil.org/event/small-producer-workshop-4/
END:VEVENT
BEGIN:VEVENT
DTSTART;TZID=UTC:20180801T080000
DTEND;TZID=UTC:20180801T163000
DTSTAMP:20260425T200936
CREATED:20180725T140312Z
LAST-MODIFIED:20180725T140312Z
UID:114-1533110400-1533141000@kyhortcouncil.org
SUMMARY:Small Producer Workshop
DESCRIPTION:Kentucky State University is hosting a free workshop on cooperative development and marketing\, business planning\, funding resources (grants and loans)\, marketing\, and recordkeeping at the LaRue County Cooperative Extension Service Office from 8:00 am – 4:30 pm (local time).  Register via email: Cynthia.Rice@kysu.edu
URL:https://kyhortcouncil.org/event/small-producer-workshop-3/
END:VEVENT
BEGIN:VEVENT
DTSTART;TZID=UTC:20180731T080000
DTEND;TZID=UTC:20180731T163000
DTSTAMP:20260425T200936
CREATED:20180725T140204Z
LAST-MODIFIED:20180725T140204Z
UID:112-1533024000-1533054600@kyhortcouncil.org
SUMMARY:Small Producer Workshop
DESCRIPTION:Kentucky State University is hosting a free workshop on cooperative development and marketing\, business planning\, funding resources (grants and loans)\, marketing\, and recordkeeping at the Graves County Cooperative Extension Service Office from 8:00 am – 4:30 pm (local time).  Register via email: Cynthia.Rice@kysu.edu
URL:https://kyhortcouncil.org/event/small-producer-workshop-2/
END:VEVENT
BEGIN:VEVENT
DTSTART;TZID=UTC:20180730T080000
DTEND;TZID=UTC:20180730T163000
DTSTAMP:20260425T200936
CREATED:20180725T140059Z
LAST-MODIFIED:20180725T140059Z
UID:110-1532937600-1532968200@kyhortcouncil.org
SUMMARY:Small Producer Workshop
DESCRIPTION:Kentucky State University is hosting a free workshop on cooperative development and marketing\, business planning\, funding resources (grants and loans)\, marketing\, and recordkeeping at the Christian County Cooperative Extension Service Office from 8:00 am – 4:30 pm (local time).  Register via email: Cynthia.Rice@kysu.edu
URL:https://kyhortcouncil.org/event/small-producer-workshop/
END:VEVENT
BEGIN:VEVENT
DTSTART;TZID=UTC:20180726T180000
DTEND;TZID=UTC:20180726T210000
DTSTAMP:20260425T200936
CREATED:20180725T141006Z
LAST-MODIFIED:20180725T141006Z
UID:122-1532628000-1532638800@kyhortcouncil.org
SUMMARY:UK Horticulture Farm Twilight Tour
DESCRIPTION:The U.K. Horticulture Department in cooperation with Kentucky State University is hosting a twilight tour featuring current research and extension activities at the Horticulture Research Farm. Tours begin at 6:00 p.m. at the research center parking lot. \nThe U.K. Horticulture Research Farm is located on the south side of Lexington approximately one block west of the intersection of Man O’War Boulevard and Nicholasville Road (U.S. 27). The entrance to the farm (Emmert Farm Lane) is off of Man O’War Boulevard at the traffic light opposite the entrance to the Lowe’s and Walmart. \nQuestions? Contact: Pam Compton phone: 859-257-2909; e-mail: pscomp1@uky.edu
URL:https://kyhortcouncil.org/event/uk-horticulture-farm-twilight-tour/
END:VEVENT
END:VCALENDAR