BEGIN:VCALENDAR
VERSION:2.0
PRODID:-//Kentucky Horticulture Council - ECPv6.15.20//NONSGML v1.0//EN
CALSCALE:GREGORIAN
METHOD:PUBLISH
X-ORIGINAL-URL:https://kyhortcouncil.org
X-WR-CALDESC:Events for Kentucky Horticulture Council
REFRESH-INTERVAL;VALUE=DURATION:PT1H
X-Robots-Tag:noindex
X-PUBLISHED-TTL:PT1H
BEGIN:VTIMEZONE
TZID:UTC
BEGIN:STANDARD
TZOFFSETFROM:+0000
TZOFFSETTO:+0000
TZNAME:UTC
DTSTART:20170101T000000
END:STANDARD
END:VTIMEZONE
BEGIN:VEVENT
DTSTART;TZID=UTC:20190326T090000
DTEND;TZID=UTC:20190326T153000
DTSTAMP:20260425T113756
CREATED:20190307T153201Z
LAST-MODIFIED:20190311T163016Z
UID:756-1553590800-1553614200@kyhortcouncil.org
SUMMARY:Food Safety Plan Workshop (Western Kentucky)
DESCRIPTION:Join us for a food safety plan workshop! \nAttention to food safety is critical to your farm’s reputation. GAPs audits are becoming a standard requirement for many buyers of Kentucky produce crops and can give you a competitive advantage when selling. To help Kentucky growers focus on food safety and access markets that require third-party audit certification\, we are offering workshops focused on writing a farm food safety plan. \nThis one-day workshop will be led by Bryan Brady\, Cultivate Kentucky Extension Associate with the University of Kentucky.  Sessions will include an overview of different GAPs programs\, details about mock audits\, and hands-on assistance to help you write a food safety plan for your farm. \nThe writing sessions will help you focus on your farm’s food safety plan. If you have a laptop\, bring it along to work on your food safety plan. The format will be very interactive with opportunities to discuss challenges and develop solutions with experts.
URL:https://kyhortcouncil.org/event/food-safety-plan-workshop-western-kentucky/
END:VEVENT
BEGIN:VEVENT
DTSTART;TZID=UTC:20190326T090000
DTEND;TZID=UTC:20190326T120000
DTSTAMP:20260425T113756
CREATED:20190307T145509Z
LAST-MODIFIED:20190307T145509Z
UID:741-1553590800-1553601600@kyhortcouncil.org
SUMMARY:Mastering the Art of Marketing Workshop
DESCRIPTION:Join Brett Wolff\, from University of Kentucky Center for Crop Diversification\, as he blends presentation and discussion to dive deeper into the art of knowing your\nproduct\, understanding your market and customers\, and promoting your business.\n• social media messaging\n• basic marketing principles\n• pricing strategies\n• persuasive messaging\n• finding new markets for your products \nThis Organic Association of Kentucky workshop is tailored to marketing\norganic products yet applicable and open to all producers.\nRegistration is recommended. Cost is $5 for OAK members; $10 for non-members.
URL:https://kyhortcouncil.org/event/mastering-the-art-of-marketing-workshop/
LOCATION:Oldham County Extension Office
END:VEVENT
BEGIN:VEVENT
DTSTART;TZID=UTC:20190312T180000
DTEND;TZID=UTC:20190312T190000
DTSTAMP:20260425T113756
CREATED:20190213T134538Z
LAST-MODIFIED:20190213T134538Z
UID:699-1552413600-1552417200@kyhortcouncil.org
SUMMARY:Managing Risk for Produce Success: Plant Disease Management 101
DESCRIPTION:Insect Pest Management 101 on March 12 will present the basics of plant disease management in vegetable crops. The webinar will cover both organic and conventional control methods and strategies. Participants will be introduced to some of the best resources for additional information and study.
URL:https://kyhortcouncil.org/event/managing-risk-for-produce-success-plant-disease-management-101/
END:VEVENT
BEGIN:VEVENT
DTSTART;TZID=UTC:20190312T090000
DTEND;TZID=UTC:20190312T153000
DTSTAMP:20260425T113756
CREATED:20190307T153027Z
LAST-MODIFIED:20190307T153027Z
UID:753-1552381200-1552404600@kyhortcouncil.org
SUMMARY:Food Safety Plan Workshop (Eastern Kentucky)
DESCRIPTION:Join us for a food safety plan workshop! \nAttention to food safety is critical to your farm’s reputation. GAPs audits are becoming a standard requirement for many buyers of Kentucky produce crops and can give you a competitive advantage when selling. To help Kentucky growers focus on food safety and access markets that require third-party audit certification\, we are offering workshops focused on writing a farm food safety plan. \nThis one-day workshop will be led by Bryan Brady\, Cultivate Kentucky Extension Associate with the University of Kentucky.  Sessions will include an overview of different GAPs programs\, details about mock audits\, and hands-on assistance to help you write a food safety plan for your farm. \nThe writing sessions will help you focus on your farm’s food safety plan. If you have a laptop\, bring it along to work on your food safety plan. The format will be very interactive with opportunities to discuss challenges and develop solutions with experts.
URL:https://kyhortcouncil.org/event/food-safety-plan-workshop-eastern-kentucky/
LOCATION:RCARS\, 130 Robinson Rd.\, Jackson\, KY\, 41339
END:VEVENT
BEGIN:VEVENT
DTSTART;TZID=UTC:20190311T100000
DTEND;TZID=UTC:20190311T140000
DTSTAMP:20260425T113756
CREATED:20190306T154536Z
LAST-MODIFIED:20190306T154536Z
UID:730-1552298400-1552312800@kyhortcouncil.org
SUMMARY:Spring Viticulture Workshop
DESCRIPTION:The Spring Viticulture workshop will include: \n\nSprayer calibration demonstrations\nPruning technique essentials and demonstrations\nAssessing and compensating for winter injury\n\nThis will be a great time to gather\, educate\, and prepare for the 2019 growing season! \nThe workshop will be held at the UK Horticulture Research Farm on March 11\, 2019 from 10:00am-2:00pm (4321 Emmert Farm Lane Lexington\, KY 40514). \nThis event is free but please register by sending Patsy Wilson (pwilson@uky.edu) an email by March 8th letting her know who and how many will be attending.
URL:https://kyhortcouncil.org/event/spring-viticulture-workshop/
LOCATION:UK Horticulture Research Farm
END:VEVENT
BEGIN:VEVENT
DTSTART;TZID=UTC:20190307T170000
DTEND;TZID=UTC:20190307T190000
DTSTAMP:20260425T113756
CREATED:20181212T160146Z
LAST-MODIFIED:20181212T160146Z
UID:556-1551978000-1551985200@kyhortcouncil.org
SUMMARY:2019 Farm to You: Connecting with Community Supported Agriculture
DESCRIPTION:Learn about CSAs and sign up for one at the event!
URL:https://kyhortcouncil.org/event/2019-farm-to-you-connecting-with-community-supported-agriculture/
LOCATION:Lexington\, KY\, Lexington\, KY\, United States
END:VEVENT
BEGIN:VEVENT
DTSTART;TZID=UTC:20190307T170000
DTEND;TZID=UTC:20190307T180000
DTSTAMP:20260425T113756
CREATED:20190306T154955Z
LAST-MODIFIED:20190306T154955Z
UID:735-1551978000-1551981600@kyhortcouncil.org
SUMMARY:Pathways to Living Sustainably with Trees
DESCRIPTION:Join us for a screening of “Pathways to Living Sustainably with Trees\,” where we will view and discuss several urban and community forestry short films at these locations and times: \n\nWednesday\, March 6th\, 6:30 – 7:30pm @ Tates Creek High School Auditorium\nThursday\, March 7th\, 5 – 6pm @ William T. Young Library Auditorium (UK Main Campus)\n\nTwo chances to catch an excellent set of films exploring green infrastructure\, trees and tree health\, environmental education\, and trees and human health and wellness! The Urban Forest Initiative is happy to partner with the Bluegrass Youth and Sustainability Council for the March 6th showing. Find the flier for the movie nights inserted and attached or visit our events page: https://ufi.ca.uky.edu/events \nPlease encourage others  out of their winter slumber and share this opportunity widely!
URL:https://kyhortcouncil.org/event/pathways-to-living-sustainably-with-trees-2/
LOCATION:UK\, Lexington\, KY
END:VEVENT
BEGIN:VEVENT
DTSTART;TZID=UTC:20190306T183000
DTEND;TZID=UTC:20190306T193000
DTSTAMP:20260425T113756
CREATED:20190306T154751Z
LAST-MODIFIED:20190306T154751Z
UID:732-1551897000-1551900600@kyhortcouncil.org
SUMMARY:Pathways to Living Sustainably with Trees
DESCRIPTION:Join us for a screening of “Pathways to Living Sustainably with Trees\,” where we will view and discuss several urban and community forestry short films at these locations and times: \n\nWednesday\, March 6th\, 6:30 – 7:30pm @ Tates Creek High School Auditorium\nThursday\, March 7th\, 5 – 6pm @ William T. Young Library Auditorium (UK Main Campus)\n\nTwo chances to catch an excellent set of films exploring green infrastructure\, trees and tree health\, environmental education\, and trees and human health and wellness! The Urban Forest Initiative is happy to partner with the Bluegrass Youth and Sustainability Council for the March 6th showing. Find the flier for the movie nights inserted and attached or visit our events page: https://ufi.ca.uky.edu/events \nPlease encourage others  out of their winter slumber and share this opportunity widely!
URL:https://kyhortcouncil.org/event/pathways-to-living-sustainably-with-trees/
LOCATION:Tates Creek High School\, Lexington
ORGANIZER;CN="Urban Forest Initiative (UFI)":MAILTO:ukntrees@uky.edu
END:VEVENT
BEGIN:VEVENT
DTSTART;VALUE=DATE:20190301
DTEND;VALUE=DATE:20190303
DTSTAMP:20260425T113756
CREATED:20180802T181333Z
LAST-MODIFIED:20180802T181333Z
UID:169-1551398400-1551571199@kyhortcouncil.org
SUMMARY:OAK Conference
DESCRIPTION:Save the date! \nLexington\, KY
URL:https://kyhortcouncil.org/event/oak-conference/
END:VEVENT
BEGIN:VEVENT
DTSTART;TZID=UTC:20190226T180000
DTEND;TZID=UTC:20190226T190000
DTSTAMP:20260425T113756
CREATED:20190213T134319Z
LAST-MODIFIED:20190213T134319Z
UID:696-1551204000-1551207600@kyhortcouncil.org
SUMMARY:Managing Risk for Produce Success: Insect Pest Management 101
DESCRIPTION:The next Risky Business session is Feb. 26! Insect Pest Management 101 will present the basics of insect pest management in vegetable crops. The webinar will cover both organic and conventional control methods and strategies. Participants will be introduced to some of the best resources for additional information and study.
URL:https://kyhortcouncil.org/event/managing-risk-for-produce-success-insect-pest-management-101/
END:VEVENT
BEGIN:VEVENT
DTSTART;TZID=UTC:20190226T080000
DTEND;TZID=UTC:20190226T150000
DTSTAMP:20260425T113756
CREATED:20190217T155015Z
LAST-MODIFIED:20190217T155015Z
UID:711-1551168000-1551193200@kyhortcouncil.org
SUMMARY:NKY Specialty Crops Conference
DESCRIPTION:Specialty crop conference hosted at the Boone Co Extension Enrichment Center.  Register: http://boone.ca.uky.edu or 859-586-6101.
URL:https://kyhortcouncil.org/event/nky-specialty-crops-conference/
LOCATION:Boone Co
END:VEVENT
BEGIN:VEVENT
DTSTART;VALUE=DATE:20190222
DTEND;VALUE=DATE:20190224
DTSTAMP:20260425T113756
CREATED:20181204T162121Z
LAST-MODIFIED:20181204T162252Z
UID:514-1550793600-1550966399@kyhortcouncil.org
SUMMARY:Eastern Kentucky Farmer Conference
DESCRIPTION:The 2019 Eastern Kentucky Farmer Conference will be Feb 22-23 at the Robinson Center for Appalachian Resources Sustainability (RCARS).  Register now and follow the event on Facebook for updates: https://www.facebook.com/EasternKYFarmerConference/
URL:https://kyhortcouncil.org/event/eastern-kentucky-farmer-conference/
END:VEVENT
BEGIN:VEVENT
DTSTART;VALUE=DATE:20190221
DTEND;VALUE=DATE:20190223
DTSTAMP:20260425T113756
CREATED:20180725T152611Z
LAST-MODIFIED:20180803T165601Z
UID:154-1550707200-1550879999@kyhortcouncil.org
SUMMARY:Kentucky Arborists Association Annual Conference
DESCRIPTION:The KAA annual meeting is a great educational opportunity with opportunities for networking and to earn pesticide credits.  The 2019 event will be held in Boone Co. \nDetails: http://www.ky-isa.org/
URL:https://kyhortcouncil.org/event/kentucky-arborists-association-annual-conference/
END:VEVENT
BEGIN:VEVENT
DTSTART;TZID=UTC:20190218T130000
DTEND;TZID=UTC:20190218T140000
DTSTAMP:20260425T113756
CREATED:20190217T143541Z
LAST-MODIFIED:20190217T143541Z
UID:704-1550494800-1550498400@kyhortcouncil.org
SUMMARY:MarketReady MasterCourse: KDA's Buy Local Program
DESCRIPTION:MarketReady is partnering with the KY Department of Ag’s Buy Local Program to bring you another MasterCourse Webinar. Join us Monday\, Feb. 18th from 1:00 PM to 2:00 PM EST!   Our team has developed a 1-hour webinar with perspectives from Chad Smith and Kelly Walls of KDA. \nThe webinar will uncover some of the ways producers should think about working with restaurants and the Buy Local Program.  Participants will be encouraged to interact with guest speakers via questions or experiences.  We hope that participants will be able to use this information to make practical business decisions in addition to having a better understanding of the technical support available to them. \nFor additional information\, please contact Alex Butler at (859)218-4383 or alex.butler@uky.edu.
URL:https://kyhortcouncil.org/event/marketready-mastercourse-kdas-buy-local-program/
LOCATION:online
END:VEVENT
BEGIN:VEVENT
DTSTART;VALUE=DATE:20190206
DTEND;VALUE=DATE:20190208
DTSTAMP:20260425T113756
CREATED:20181212T133419Z
LAST-MODIFIED:20181212T133419Z
UID:549-1549411200-1549583999@kyhortcouncil.org
SUMMARY:FSMA (Produce Safety Alliance) Integrated Training
DESCRIPTION:Fruit and vegetables growers and others interested in learning about produce safety\, Good Agricultural Practices (GAPs)\, co-management\, and the proposed FDA’s Food Safety Modernization Act (FSMA) Produce Safety Rule would benefit greatly from this training. Additionally\, any growers who would like to meet the proposed Produce Safety Rule requirements.
URL:https://kyhortcouncil.org/event/fsma-produce-safety-alliance-integrated-training/
LOCATION:Owensboro\, KY
END:VEVENT
BEGIN:VEVENT
DTSTART;TZID=UTC:20190205T090000
DTEND;TZID=UTC:20190205T150000
DTSTAMP:20260425T113756
CREATED:20181220T152908Z
LAST-MODIFIED:20181220T153004Z
UID:632-1549357200-1549378800@kyhortcouncil.org
SUMMARY:KY Horticulture Research Planning Session
DESCRIPTION:Research activities and needs of the Kentucky horticulture industry will be identified and discussed during this planning session with university faculty and research farm staff.
URL:https://kyhortcouncil.org/event/ky-horticulture-research-planning-session/
END:VEVENT
BEGIN:VEVENT
DTSTART;TZID=UTC:20190201T073000
DTEND;TZID=UTC:20190201T090000
DTSTAMP:20260425T113756
CREATED:20190121T183330Z
LAST-MODIFIED:20190121T184202Z
UID:682-1549006200-1549011600@kyhortcouncil.org
SUMMARY:FFB - Community Supported Food
DESCRIPTION:Join the UK College of Ag Food Connection’s First Friday Breakfast!  This event will feature Grace Cafe\, a non-profit\, pay-what-you-can community restaurant in Danville\, KY.
URL:https://kyhortcouncil.org/event/ffb-community-supported-food/
LOCATION:ES Good Barn\, UK
END:VEVENT
BEGIN:VEVENT
DTSTART;TZID=UTC:20190131T100000
DTEND;TZID=UTC:20190131T153000
DTSTAMP:20260425T113756
CREATED:20190217T144102Z
LAST-MODIFIED:20190217T144102Z
UID:709-1548928800-1548948600@kyhortcouncil.org
SUMMARY:MarketReady Training
DESCRIPTION:MarketReady seeks to educate local food suppliers to help them succeed in today’s local markets. We teach those who sell agricultural products about how to establish an efficient business and food safety strategy to achieve success.  If you’re interested in selling to restaurants\, grocers/wholesalers/retailers\, and schools MarketReady can help you. Also\, those who just want to explore ways to improve their sales skills\, are considering or developing a new food business\, and those currently selling to these markets who may want to improve their current business relationships can utilize this program. \nThis MarketReady training will be from 10:00 AM – 3:30 PM.
URL:https://kyhortcouncil.org/event/marketready-training-2/
LOCATION:Lexington\, KY\, Lexington\, KY\, United States
END:VEVENT
BEGIN:VEVENT
DTSTART;TZID=UTC:20190129T100000
DTEND;TZID=UTC:20190129T153000
DTSTAMP:20260425T113756
CREATED:20190217T143944Z
LAST-MODIFIED:20190217T144211Z
UID:706-1548756000-1548775800@kyhortcouncil.org
SUMMARY:MarketReady Training
DESCRIPTION:MarketReady seeks to educate local food suppliers to help them succeed in today’s local markets. We teach those who sell agricultural products about how to establish an efficient business and food safety strategy to achieve success.  If you’re interested in selling to restaurants\, grocers/wholesalers/retailers\, and schools MarketReady can help you. Also\, those who just want to explore ways to improve their sales skills\, are considering or developing a new food business\, and those currently selling to these markets who may want to improve their current business relationships can utilize this program. \nThis MarketReady training will be from 10:00 AM – 3:30 PM.
URL:https://kyhortcouncil.org/event/marketready-training/
LOCATION:Jefferson Co CES
END:VEVENT
BEGIN:VEVENT
DTSTART;VALUE=DATE:20190123
DTEND;VALUE=DATE:20190125
DTSTAMP:20260425T113756
CREATED:20180918T123315Z
LAST-MODIFIED:20180918T123406Z
UID:264-1548201600-1548374399@kyhortcouncil.org
SUMMARY:KNLA Winter Training and Expo
DESCRIPTION:Join KNLA for the annual winter meeting!
URL:https://kyhortcouncil.org/event/knla-winter-training-and-expo/
LOCATION:Louisville\, KY
END:VEVENT
BEGIN:VEVENT
DTSTART;VALUE=DATE:20190115
DTEND;VALUE=DATE:20190116
DTSTAMP:20260425T113756
CREATED:20181220T152058Z
LAST-MODIFIED:20181220T152058Z
UID:629-1547510400-1547596799@kyhortcouncil.org
SUMMARY:Business Planning: Not Just Paper and Spreadsheets
DESCRIPTION:Business Planning: Not Just Paper and Spreadsheets will present the basics of business planning with a specific focus on produce growers. Producers will learn why business planning should be the cornerstone of their operation and where to begin. Participants will be introduced to some of the best resources for implementation\, additional information and study.
URL:https://kyhortcouncil.org/event/business-planning-not-just-paper-and-spreadsheets/
LOCATION:online
END:VEVENT
BEGIN:VEVENT
DTSTART;VALUE=DATE:20190106
DTEND;VALUE=DATE:20190109
DTSTAMP:20260425T113756
CREATED:20180802T181935Z
LAST-MODIFIED:20180802T181935Z
UID:171-1546732800-1546991999@kyhortcouncil.org
SUMMARY:2019 Kentucky Fruit and Vegetable Conference
DESCRIPTION:2019 Kentucky Fruit and Vegetable Conference \nJanuary 7-8\, 2019 \nKentucky State Horticultural Society *163nd Annual Meeting and Kentucky Vegetable Growers Association *48th Annual Meeting and Organic Association of Kentucky *10th Annual Meeting and Kentucky Wine Association \nIn cooperation with University of Kentucky College of Agriculture\, Food\, and Environment\,  Kentucky State University\, and Kentucky Department of Agriculture \nMeeting Place: Embassy Suites Hotel\, 1801 Newtown Pike\, Lexington\, Kentucky 40511\, (859) 455-5000\, FAX (859) 455-5122\, Reservations: 800-EMBASSY
URL:https://kyhortcouncil.org/event/2019-kentucky-fruit-and-vegetable-conference/
END:VEVENT
BEGIN:VEVENT
DTSTART;TZID=UTC:20181218T180000
DTEND;TZID=UTC:20181218T190000
DTSTAMP:20260425T113756
CREATED:20181202T143520Z
LAST-MODIFIED:20181202T143553Z
UID:504-1545156000-1545159600@kyhortcouncil.org
SUMMARY:Produce Irrigation and Water Management
DESCRIPTION:Appalachian Sustainable Development is hosting a webinar:Feeding the Crop: Soil Health and Crop Fertility for Produce will present the basics of fertility management for crops with a specific focus on produce. We will introduce participants to some of the best resources for additional information and study. Register online – login details will be confirmed by email.
URL:https://kyhortcouncil.org/event/produce-irrigation-and-water-management/
END:VEVENT
BEGIN:VEVENT
DTSTART;TZID=UTC:20181218T163000
DTEND;TZID=UTC:20181218T203000
DTSTAMP:20260425T113756
CREATED:20181004T010556Z
LAST-MODIFIED:20181004T010556Z
UID:305-1545150600-1545165000@kyhortcouncil.org
SUMMARY:KCARD AGFP Grant Workshop
DESCRIPTION:KCARD’s Agribusiness Grant Facilitation Program is hosting several Grant Workshops this season. Workshops will cover a broad range of funding opportunities for farmers\, agribusinesses\, and non-profits that support agriculture in Kentucky. \nEach workshop will bring together speakers who work directly with national and state funding programs. The workshops will cover programs offered by USDA Rural Development\, Kentucky Department of Agriculture\, Governor’s Office of Agricultural Policy\, Kentucky State University\, University of Kentucky\, and more.
URL:https://kyhortcouncil.org/event/kcard-agfp-grant-workshop-5/
LOCATION:Knox Co Extension Office\, 215 Treuhaft Blvd #7\, Barbourville\, KY\, 40906\, United States
END:VEVENT
BEGIN:VEVENT
DTSTART;TZID=UTC:20181214T083000
DTEND;TZID=UTC:20181214T163000
DTSTAMP:20260425T113756
CREATED:20181015T121014Z
LAST-MODIFIED:20181015T121014Z
UID:324-1544776200-1544805000@kyhortcouncil.org
SUMMARY:Decay Fungi Workshop (KAA)
DESCRIPTION:Dr. Bill Fountain\, extension professor\, and Julie Beale\, plant pathologist\, will be offering Decay Fungi: The Science of Fungal Infections\, Cankers\, and Digestion of Woody Tissues at UK.  Registration is limited and preference will be given to Board Certified Master Arborists (BCMA) in need of science CEUs and Certified Arborists planning to take the BCMA exam.
URL:https://kyhortcouncil.org/event/decay-fungi-workshop-kaa/
LOCATION:ES Good Barn\, UK
ORGANIZER;CN="Kentucky Arborists Association":MAILTO:info@ky-isa.org
END:VEVENT
BEGIN:VEVENT
DTSTART;TZID=UTC:20181212T163000
DTEND;TZID=UTC:20181212T203000
DTSTAMP:20260425T113756
CREATED:20181004T010338Z
LAST-MODIFIED:20181004T010338Z
UID:301-1544632200-1544646600@kyhortcouncil.org
SUMMARY:KCARD AGFP Grant Workshop
DESCRIPTION:KCARD’s Agribusiness Grant Facilitation Program is hosting several Grant Workshops this season. Workshops will cover a broad range of funding opportunities for farmers\, agribusinesses\, and non-profits that support agriculture in Kentucky. \nEach workshop will bring together speakers who work directly with national and state funding programs. The workshops will cover programs offered by USDA Rural Development\, Kentucky Department of Agriculture\, Governor’s Office of Agricultural Policy\, Kentucky State University\, University of Kentucky\, and more.
URL:https://kyhortcouncil.org/event/kcard-agfp-grant-workshop-4/
LOCATION:Morehead State University Farm\, 25 MSU Farm Dr\, Morehead\, KY\, 40351\, United States
END:VEVENT
BEGIN:VEVENT
DTSTART;TZID=UTC:20181211T083000
DTEND;TZID=UTC:20181211T153000
DTSTAMP:20260425T113756
CREATED:20181004T010013Z
LAST-MODIFIED:20181004T010115Z
UID:297-1544517000-1544542200@kyhortcouncil.org
SUMMARY:KCARD AGFP Grant Workshop
DESCRIPTION:KCARD’s Agribusiness Grant Facilitation Program is hosting several Grant Workshops this season. Workshops will cover a broad range of funding opportunities for farmers\, agribusinesses\, and non-profits that support agriculture in Kentucky. \nEach workshop will bring together speakers who work directly with national and state funding programs. The workshops will cover programs offered by USDA Rural Development\, Kentucky Department of Agriculture\, Governor’s Office of Agricultural Policy\, Kentucky State University\, University of Kentucky\, and more.
URL:https://kyhortcouncil.org/event/kcard-agfp-grant-workshop-3/
LOCATION:Kenton Co Extension Office\, 10990 Marshall Rd\, Covington\, KY\, 41015\, United States
END:VEVENT
BEGIN:VEVENT
DTSTART;VALUE=DATE:20181210
DTEND;VALUE=DATE:20181213
DTSTAMP:20260425T113756
CREATED:20181015T122219Z
LAST-MODIFIED:20181015T122219Z
UID:330-1544400000-1544659199@kyhortcouncil.org
SUMMARY:KAA Certified Arborists Two-Day Prep Course and Exam
DESCRIPTION:Preparing for your ISA certification exam? Need CEUs?\n\nJoin KAA for this Certification Preparation Course lead by Dr. Bill Fountain\, Extension Professor of Arboriculture & Landscape Management\, UK Department of Horticulture.  6 ISA Certified CEUs per course day\, with the 2-day course total: 12 ISA CEUs.\n\n\n\nKAA Certified Arborists Preparation Course:\n\nMonday\, December 10 from 8:30 am to 5:00 pm & Tuesday\, December 11 from 8:30 am to 5:00 pm\nDeadline to register for Certified Arborists Preparation Course: Monday\, Dec. 7\, 2018\nLunch provided both days.\n\nISA Written Exam: (minimum 10 participants)\n\nCertification exam for ISA Certified Arborist\, Utility Specialist\, and Municipal Specialist\nExam: Wednesday\, December 12\, 2018. Exam time: 9:00 am-1:00 pm\nDeadline to register for the exam: November 23\, 2018\nPlease contact us ISA directly for any questions regarding the exam.\n\nPlease note: Application for the certification exam must be submitted separately from this course/registration to ISA.
URL:https://kyhortcouncil.org/event/kaa-certified-arborists-two-day-prep-course-and-exam/
LOCATION:Cyril Allgeier Community Center\, 4101 Cadillac Court\, Louisville\, KY\, 40213\, United States
ORGANIZER;CN="Kentucky Arborists Association":MAILTO:info@ky-isa.org
END:VEVENT
BEGIN:VEVENT
DTSTART;TZID=UTC:20181205T090000
DTEND;TZID=UTC:20181205T130000
DTSTAMP:20260425T113756
CREATED:20181204T161609Z
LAST-MODIFIED:20181204T161609Z
UID:512-1544000400-1544014800@kyhortcouncil.org
SUMMARY:Winter Farming Field Day: Growing\, Storing & Preparing
DESCRIPTION:The Allen County Cooperative Extension Service and Need More Acres Farm is hosting a field day on winter farming in Scottsville from 9 am – 1 pm.
URL:https://kyhortcouncil.org/event/winter-farming-field-day-growing-storing-preparing/
END:VEVENT
BEGIN:VEVENT
DTSTART;TZID=UTC:20181205T083000
DTEND;TZID=UTC:20181205T153000
DTSTAMP:20260425T113756
CREATED:20181004T005806Z
LAST-MODIFIED:20181004T005806Z
UID:294-1543998600-1544023800@kyhortcouncil.org
SUMMARY:KCARD AGFP Grant Workshop
DESCRIPTION:KCARD’s Agribusiness Grant Facilitation Program is hosting several Grant Workshops this season. Workshops will cover a broad range of funding opportunities for farmers\, agribusinesses\, and non-profits that support agriculture in Kentucky. \nEach workshop will bring together speakers who work directly with national and state funding programs. The workshops will cover programs offered by USDA Rural Development\, Kentucky Department of Agriculture\, Governor’s Office of Agricultural Policy\, Kentucky State University\, University of Kentucky\, and more.
URL:https://kyhortcouncil.org/event/kcard-agfp-grant-workshop-2/
LOCATION:Logan Co Extension Office\, 255 John Paul Rd\, Russellville\, KY\, 42276\, United States
END:VEVENT
END:VCALENDAR